BEGIN:VCALENDAR
VERSION:2.0
PRODID:-//International Myositis Society - ECPv6.15.18//NONSGML v1.0//EN
CALSCALE:GREGORIAN
METHOD:PUBLISH
X-WR-CALNAME:International Myositis Society
X-ORIGINAL-URL:https://imyos.org
X-WR-CALDESC:Events for International Myositis Society
REFRESH-INTERVAL;VALUE=DURATION:PT1H
X-Robots-Tag:noindex
X-PUBLISHED-TTL:PT1H
BEGIN:VTIMEZONE
TZID:Europe/Berlin
BEGIN:DAYLIGHT
TZOFFSETFROM:+0100
TZOFFSETTO:+0200
TZNAME:CEST
DTSTART:20250330T010000
END:DAYLIGHT
BEGIN:STANDARD
TZOFFSETFROM:+0200
TZOFFSETTO:+0100
TZNAME:CET
DTSTART:20251026T010000
END:STANDARD
BEGIN:DAYLIGHT
TZOFFSETFROM:+0100
TZOFFSETTO:+0200
TZNAME:CEST
DTSTART:20260329T010000
END:DAYLIGHT
BEGIN:STANDARD
TZOFFSETFROM:+0200
TZOFFSETTO:+0100
TZNAME:CET
DTSTART:20261025T010000
END:STANDARD
BEGIN:DAYLIGHT
TZOFFSETFROM:+0100
TZOFFSETTO:+0200
TZNAME:CEST
DTSTART:20270328T010000
END:DAYLIGHT
BEGIN:STANDARD
TZOFFSETFROM:+0200
TZOFFSETTO:+0100
TZNAME:CET
DTSTART:20271031T010000
END:STANDARD
END:VTIMEZONE
BEGIN:VEVENT
DTSTART;VALUE=DATE:20260323
DTEND;VALUE=DATE:20260327
DTSTAMP:20260420T225838
CREATED:20251118T094828Z
LAST-MODIFIED:20260213T140757Z
UID:10000067-1774224000-1774569599@imyos.org
SUMMARY:6th Global Conference on Myositis (GCOM)
DESCRIPTION:Welcome to the 6th Global Conference on Myositis – GCOM\n\n\n\n\n\n\n\nWe are thrilled to invite clinicians\, researchers\, healthcare professionals\, patients\, and industry partners from around the world to attend GCOM 2026\, the premier international forum dedicated to clinical care and research in myositis. \n\n\n\n\n\n\n\nOrganized by the International Myositis Society (iMyoS)\, this biennial meeting provides a unique opportunity to share groundbreaking science\, foster collaboration across disciplines\, and engage with leading voices in the field of inflammatory myopathies. \n\n\n\n\n\n\n\n\n\n🔬 Scientific Highlights Include: \n\n\nPathophysiology\, imaging\, diagnosis\, and treatment of myositis \n\n\nClinical trials and outcome measures \n\n\nJuvenile and adult myositis\, including all subtypes (DM\, IMNM\, PM\, IBM\, ASyS\, OM) \n\n\nPatient perspectives and patient-led research \n\n\nRehabilitation\, organ involvement\, and treat-to-target approaches \n\n\nInteractive clinical cases and transition care \n\n\n👥 Who Should Attend?Neurologists\, rheumatologists\, dermatologists\, pediatricians\, physiotherapists\, basic scientists\, trainees\, and patients—all are welcome to be part of this vibrant\, multidisciplinary exchange. \nDon’t miss this chance to be part of a global community shaping the future of myositis care and research! \n\n\n\n\nWe look forward to welcoming you to Lisbon! \n\n\n\n\n\n\n\nthe Organising Committee and the iMyoS Board
URL:https://imyos.org/event/6th-global-conference-on-myositis-gcom/
LOCATION:CCL\, Praça das Indústrias 1\, Lisbon\, 1300-307\, Portugal
CATEGORIES:Asia-Pacific,Caregivers,Dermatomyositis,Europe,Healthcare Professionals,Inclusion Body Myositis,Juvenile Myositis,Local Chapters,Myositis Types,Networks,North America,Other Myositis,Patients,Polymyositis,Researchers,Target Audience
ATTACH;FMTTYPE=image/jpeg:https://imyos.org/wp-content/uploads/2025/11/GCOM_1000x400.jpg
ORGANIZER;CN="iMyoS":MAILTO:secretariat@office.imyos.org
END:VEVENT
END:VCALENDAR